BEGIN:VCALENDAR
VERSION:2.0
PRODID:-//TYK - ECPv6.15.20//NONSGML v1.0//EN
CALSCALE:GREGORIAN
METHOD:PUBLISH
X-ORIGINAL-URL:https://tyk.info
X-WR-CALDESC:Tapahtumat TYK
REFRESH-INTERVAL;VALUE=DURATION:PT1H
X-Robots-Tag:noindex
X-PUBLISHED-TTL:PT1H
BEGIN:VTIMEZONE
TZID:Europe/Helsinki
BEGIN:DAYLIGHT
TZOFFSETFROM:+0200
TZOFFSETTO:+0300
TZNAME:EEST
DTSTART:20220327T010000
END:DAYLIGHT
BEGIN:STANDARD
TZOFFSETFROM:+0300
TZOFFSETTO:+0200
TZNAME:EET
DTSTART:20221030T010000
END:STANDARD
BEGIN:DAYLIGHT
TZOFFSETFROM:+0200
TZOFFSETTO:+0300
TZNAME:EEST
DTSTART:20230326T010000
END:DAYLIGHT
BEGIN:STANDARD
TZOFFSETFROM:+0300
TZOFFSETTO:+0200
TZNAME:EET
DTSTART:20231029T010000
END:STANDARD
BEGIN:DAYLIGHT
TZOFFSETFROM:+0200
TZOFFSETTO:+0300
TZNAME:EEST
DTSTART:20240331T010000
END:DAYLIGHT
BEGIN:STANDARD
TZOFFSETFROM:+0300
TZOFFSETTO:+0200
TZNAME:EET
DTSTART:20241027T010000
END:STANDARD
END:VTIMEZONE
BEGIN:VEVENT
DTSTART;TZID=Europe/Helsinki:20231106T000000
DTEND;TZID=Europe/Helsinki:20231111T235959
DTSTAMP:20260425T022412
CREATED:20231108T052319Z
LAST-MODIFIED:20231108T052322Z
UID:10000228-1699228800-1699747199@tyk.info
SUMMARY:Ranskan opiskelijat opintomatkalla Ranskassa
DESCRIPTION:
URL:https://tyk.info/tapahtuma/ranskan-opiskelijat-opintomatkalla-ranskassa/
CATEGORIES:Kansainvälisyys,Opiskelijoille
END:VEVENT
BEGIN:VEVENT
DTSTART;TZID=Europe/Helsinki:20231106T103000
DTEND;TZID=Europe/Helsinki:20231106T110000
DTSTAMP:20260425T022412
CREATED:20230727T100854Z
LAST-MODIFIED:20230727T100855Z
UID:10000142-1699266600-1699268400@tyk.info
SUMMARY:YO-info
DESCRIPTION:Yo-info pidetään Teamsissa ja se on pakollinen kaikille kevään kirjoittajille. \n\n\n\nTutustu myös kokelaan ohjeisiin Ylioppilaslautakunnan sivuilla.
URL:https://tyk.info/tapahtuma/yo-info-3/
CATEGORIES:Opiskelijoille,YO-kokeet
END:VEVENT
BEGIN:VEVENT
DTSTART;TZID=Europe/Helsinki:20231107T000000
DTEND;TZID=Europe/Helsinki:20231107T235959
DTSTAMP:20260425T022412
CREATED:20230919T075642Z
LAST-MODIFIED:20230919T075645Z
UID:10000201-1699315200-1699401599@tyk.info
SUMMARY:Fysiikanopiskelijat (FY8) vierailulla Olkiluodossa
DESCRIPTION:
URL:https://tyk.info/tapahtuma/fysiikanopiskelijat-fy8-vierailulla-olkiluodossa/
CATEGORIES:Opiskelijoille
END:VEVENT
BEGIN:VEVENT
DTSTART;TZID=Europe/Helsinki:20231109T000000
DTEND;TZID=Europe/Helsinki:20231109T235959
DTSTAMP:20260425T022412
CREATED:20230727T101100Z
LAST-MODIFIED:20230727T101102Z
UID:10000143-1699488000-1699574399@tyk.info
SUMMARY:Duunipäivä
DESCRIPTION:Tee pari- ja ryhmätöitä\, tule tukiopetukseen\, harjoittele kokeisiin tai osallistu luennolle. Duunipäivän ohjelman suunnittelet itse. Käytä aika hyödyksi!
URL:https://tyk.info/tapahtuma/duunipaiva-3/
CATEGORIES:Opiskelijoille
END:VEVENT
BEGIN:VEVENT
DTSTART;TZID=Europe/Helsinki:20231109T000000
DTEND;TZID=Europe/Helsinki:20231110T235959
DTSTAMP:20260425T022412
CREATED:20230727T081515Z
LAST-MODIFIED:20230727T081843Z
UID:10000131-1699488000-1699660799@tyk.info
SUMMARY:Ylioppilaskokeiden tulosten julkistaminen
DESCRIPTION:Tutkinnon tulokset lähetetään lukioille 9.11.2023. Tulokset ja kokelaan arvostellut koesuoritukset annetaan kokelaalle ja alle 18-vuotiaan kokelaan huoltajalle nähtäväksi Oma Opintopolku -verkkopalvelussa 10.11.2023 alkaen. (Huom. Lautakunnan ilmoittamat ajankohdat ovat alustavia ja muutokset niihin mahdollisia. Lue lisää lautakunnan sivuilta.
URL:https://tyk.info/tapahtuma/ylioppilaskokeiden-tulosten-julkistaminen-2/
CATEGORIES:Opiskelijoille,YO-kokeet
END:VEVENT
END:VCALENDAR