BEGIN:VCALENDAR
VERSION:2.0
PRODID:-//TYK - ECPv6.15.20//NONSGML v1.0//EN
CALSCALE:GREGORIAN
METHOD:PUBLISH
X-WR-CALNAME:TYK
X-ORIGINAL-URL:https://tyk.info
X-WR-CALDESC:Tapahtumat TYK
REFRESH-INTERVAL;VALUE=DURATION:PT1H
X-Robots-Tag:noindex
X-PUBLISHED-TTL:PT1H
BEGIN:VTIMEZONE
TZID:Europe/Helsinki
BEGIN:DAYLIGHT
TZOFFSETFROM:+0200
TZOFFSETTO:+0300
TZNAME:EEST
DTSTART:20220327T010000
END:DAYLIGHT
BEGIN:STANDARD
TZOFFSETFROM:+0300
TZOFFSETTO:+0200
TZNAME:EET
DTSTART:20221030T010000
END:STANDARD
BEGIN:DAYLIGHT
TZOFFSETFROM:+0200
TZOFFSETTO:+0300
TZNAME:EEST
DTSTART:20230326T010000
END:DAYLIGHT
BEGIN:STANDARD
TZOFFSETFROM:+0300
TZOFFSETTO:+0200
TZNAME:EET
DTSTART:20231029T010000
END:STANDARD
BEGIN:DAYLIGHT
TZOFFSETFROM:+0200
TZOFFSETTO:+0300
TZNAME:EEST
DTSTART:20240331T010000
END:DAYLIGHT
BEGIN:STANDARD
TZOFFSETFROM:+0300
TZOFFSETTO:+0200
TZNAME:EET
DTSTART:20241027T010000
END:STANDARD
END:VTIMEZONE
BEGIN:VEVENT
DTSTART;TZID=Europe/Helsinki:20231023T000000
DTEND;TZID=Europe/Helsinki:20231027T235959
DTSTAMP:20260425T034624
CREATED:20231023T155437Z
LAST-MODIFIED:20231023T155554Z
UID:10000219-1698019200-1698451199@tyk.info
SUMMARY:JustDance-tanssihaaste TYKin opiskelijoille\, opettajille ja henkilökunnalle
DESCRIPTION:Yhdessä tanssien-opintojakson järjestämä JustDance-haaste kaikille tykkiläisille on käynnissä koko viikon. Nyt tanssitaan! Joka päivä!
URL:https://tyk.info/tapahtuma/justdance-tanssihaaste-tykin-opiskelijoille-opettajille-ja-henkilokunnalle/
CATEGORIES:Ilmaisutaito,Opiskelijoille
END:VEVENT
BEGIN:VEVENT
DTSTART;TZID=Europe/Helsinki:20231023T160000
DTEND;TZID=Europe/Helsinki:20231023T170000
DTSTAMP:20260425T034624
CREATED:20231023T161136Z
LAST-MODIFIED:20231023T161138Z
UID:10000222-1698076800-1698080400@tyk.info
SUMMARY:Palloilukerho pyörähtää käyntiin!
DESCRIPTION:Kaikki tykkiläiset ovat tervetulleita palloilemaan Liikuntasaliin maanantaisin klo 16-17
URL:https://tyk.info/tapahtuma/palloilukerho-pyorahtaa-kayntiin/
CATEGORIES:Opiskelijoille
END:VEVENT
BEGIN:VEVENT
DTSTART;TZID=Europe/Helsinki:20231026T160000
DTEND;TZID=Europe/Helsinki:20231026T170000
DTSTAMP:20260425T034624
CREATED:20231023T160850Z
LAST-MODIFIED:20231023T160852Z
UID:10000221-1698336000-1698339600@tyk.info
SUMMARY:Filosofian kerho kokoontuu
DESCRIPTION:Filosofian luokassa \n\n\n\nTervetuloa TYKin filosofiakerhoon kaikki filosofiasta kiinnostuneet tykkiläiset! Perehdytään yhdessä filosofisiin aiheisiin\, opetellaan keskustelemaan filosofiasta ja kehitetään ajattelun taitojamme. Kerhon toiminta on opiskelijalähtöistä\, eli pääasiassa äänessä olemme itse opiskelijat. Aiheet ovat siis varmasti kiinnostavia\, koska valitsemme ne itse. Mukaan saa tulla myös vaan kuuntelemaan!
URL:https://tyk.info/tapahtuma/filosofian-kerho-kokoontuu/
CATEGORIES:Ilmaisutaito,Opiskelijoille
END:VEVENT
BEGIN:VEVENT
DTSTART;TZID=Europe/Helsinki:20231027T130000
DTEND;TZID=Europe/Helsinki:20231027T131500
DTSTAMP:20260425T034624
CREATED:20231023T160348Z
LAST-MODIFIED:20231023T160351Z
UID:10000220-1698411600-1698412500@tyk.info
SUMMARY:Thriller-flashmob
DESCRIPTION:Viikon tanssihaaste huipentuu perjantaina klo 13.00-13.15 välitunnilla\, jolloin tanssitaan jo perinteeksi muodostunut Halloween-teemainen Thriller-flashmob Tykin etupihan nurmikolla. Sateen sattuessa TYKin liikuntasalissa. 
URL:https://tyk.info/tapahtuma/thriller-flashmob/
CATEGORIES:Ilmaisutaito,Opiskelijoille
END:VEVENT
BEGIN:VEVENT
DTSTART;TZID=Europe/Helsinki:20231028T093000
DTEND;TZID=Europe/Helsinki:20231028T140000
DTSTAMP:20260425T034624
CREATED:20230727T095957Z
LAST-MODIFIED:20231008T114351Z
UID:10000138-1698485400-1698501600@tyk.info
SUMMARY:AVOIMET OVET JA 23-RYHMIEN KOTIVÄEN TAPAAMINEN
DESCRIPTION:TYKin Avoimet ovet la 28.10.2023 klo 9.30-14.00 \n\n\n\n\nAvointen ovien päivä on koulupäivä 23- ja 22-ryhmille (abit eivät ole koulussa).\n\n\n\nPäivän aikana pidetään palkkien 6 ja 3 oppitunnit 23- ja 22-ryhmille.\n\n\n\nKotiväki\, kaverit ja muut kiinnostuneet ovat lämpimästi tervetulleita tutustumaan TYKiin ja osallistumaan oppitunneille joustavasti koko päivän ajan!\n\n\n\nTYK-lähettiläät ja opot ovat koko päivän aulassa infopisteellä opastamassa vierailijoita\, jakamassa tarkempaa ohjelmaa ja vastailemassa kysymyksiin.\n\n\n\n\n Aikataulu\n\n\n\n\nklo 9.45-11.00 palkin 6 oppitunnit 23- ja 22-ryhmille\n\n\n\nklo 11.10-13.00 palkin 3 oppitunnit 23- ja 22-ryhmille\n\n\n\nklo 11.00-13.00 ruokailut erillisen aikataulun mukaan\n\n\n\n\nOpiskelijoiden koulupäivä päättyy klo 13.00. \n\n\n\nOppituntien lisäksi:\n\n\n\n\nIlmaisutaidon esityksiä klo 10.00\, 10.30\, 11.00 ja 11.30 Vanhassa salissa\n\n\n\nOppiaineiden esittelyä ympäri koulua\n\n\n\nYhteinen tilaisuus ekavuotisten eli 23-ryhmien kotiväelle klo 12.30-13.00 Vanhassa salissa\n\n\n\nKotiväentapaamiset ryhmänohjausryhmittäin ekavuotisten eli 23-ryhmien kotiväelle klo 13.00-14.00 kotiluokissa\n\n\n\n\nTervetuloa tutustumaan TYKiin!
URL:https://tyk.info/tapahtuma/avoimet-ovet-ja-23-ryhmien-kotivaentapaaminen/
CATEGORIES:Hakijoille,Kaikille avoin,Kotiväelle,Opiskelijoille
END:VEVENT
END:VCALENDAR