BEGIN:VCALENDAR
VERSION:2.0
PRODID:-//TYK - ECPv6.15.20//NONSGML v1.0//EN
CALSCALE:GREGORIAN
METHOD:PUBLISH
X-WR-CALNAME:TYK
X-ORIGINAL-URL:https://tyk.info
X-WR-CALDESC:Tapahtumat TYK
REFRESH-INTERVAL;VALUE=DURATION:PT1H
X-Robots-Tag:noindex
X-PUBLISHED-TTL:PT1H
BEGIN:VTIMEZONE
TZID:Europe/Helsinki
BEGIN:DAYLIGHT
TZOFFSETFROM:+0200
TZOFFSETTO:+0300
TZNAME:EEST
DTSTART:20220327T010000
END:DAYLIGHT
BEGIN:STANDARD
TZOFFSETFROM:+0300
TZOFFSETTO:+0200
TZNAME:EET
DTSTART:20221030T010000
END:STANDARD
BEGIN:DAYLIGHT
TZOFFSETFROM:+0200
TZOFFSETTO:+0300
TZNAME:EEST
DTSTART:20230326T010000
END:DAYLIGHT
BEGIN:STANDARD
TZOFFSETFROM:+0300
TZOFFSETTO:+0200
TZNAME:EET
DTSTART:20231029T010000
END:STANDARD
BEGIN:DAYLIGHT
TZOFFSETFROM:+0200
TZOFFSETTO:+0300
TZNAME:EEST
DTSTART:20240331T010000
END:DAYLIGHT
BEGIN:STANDARD
TZOFFSETFROM:+0300
TZOFFSETTO:+0200
TZNAME:EET
DTSTART:20241027T010000
END:STANDARD
END:VTIMEZONE
BEGIN:VEVENT
DTSTART;TZID=Europe/Helsinki:20231114T180000
DTEND;TZID=Europe/Helsinki:20231114T190000
DTSTAMP:20260425T004827
CREATED:20230727T101300Z
LAST-MODIFIED:20231106T061406Z
UID:10000144-1699984800-1699988400@tyk.info
SUMMARY:21-ryhmien kotiväen ilta Teamsissa
DESCRIPTION:Tervehdys TYKistä!   \n\n\n\nAbiturientit ovat ahkeroineet syksyn ylioppilaskirjoitukset päätökseen ja on aika katsoa tulevaan. Tervetuloa abien kotiväeniltaan ti 14.11. klo 18-19.  \n\n\n\nKotiväenilta pidetään etäyhteydellä Teams-sovelluksessa. Linkki löytyy kutsusta. \n\n\n\nTilaisuudessa käsittelemme lukion päätökseen\, ylioppilaaksi valmistumiseen ja jatko-opintoihin liittyviä asioita.   \n\n\n\nLämpimästi tervetuloa Teamsiin!  
URL:https://tyk.info/tapahtuma/21-ryhmien-kotivaen-ilta-teamsissa-2/
CATEGORIES:Kotiväelle
END:VEVENT
END:VCALENDAR