BEGIN:VCALENDAR
VERSION:2.0
PRODID:-//TYK - ECPv6.15.20//NONSGML v1.0//EN
CALSCALE:GREGORIAN
METHOD:PUBLISH
X-ORIGINAL-URL:https://tyk.info
X-WR-CALDESC:Tapahtumat TYK
REFRESH-INTERVAL;VALUE=DURATION:PT1H
X-Robots-Tag:noindex
X-PUBLISHED-TTL:PT1H
BEGIN:VTIMEZONE
TZID:Europe/Helsinki
BEGIN:DAYLIGHT
TZOFFSETFROM:+0200
TZOFFSETTO:+0300
TZNAME:EEST
DTSTART:20220327T010000
END:DAYLIGHT
BEGIN:STANDARD
TZOFFSETFROM:+0300
TZOFFSETTO:+0200
TZNAME:EET
DTSTART:20221030T010000
END:STANDARD
BEGIN:DAYLIGHT
TZOFFSETFROM:+0200
TZOFFSETTO:+0300
TZNAME:EEST
DTSTART:20230326T010000
END:DAYLIGHT
BEGIN:STANDARD
TZOFFSETFROM:+0300
TZOFFSETTO:+0200
TZNAME:EET
DTSTART:20231029T010000
END:STANDARD
BEGIN:DAYLIGHT
TZOFFSETFROM:+0200
TZOFFSETTO:+0300
TZNAME:EEST
DTSTART:20240331T010000
END:DAYLIGHT
BEGIN:STANDARD
TZOFFSETFROM:+0300
TZOFFSETTO:+0200
TZNAME:EET
DTSTART:20241027T010000
END:STANDARD
END:VTIMEZONE
BEGIN:VEVENT
DTSTART;TZID=Europe/Helsinki:20231101T000000
DTEND;TZID=Europe/Helsinki:20231101T235959
DTSTAMP:20260425T005138
CREATED:20230925T095256Z
LAST-MODIFIED:20231030T163145Z
UID:10000209-1698796800-1698883199@tyk.info
SUMMARY:Maolin matematiikkakilpailu
DESCRIPTION:
URL:https://tyk.info/tapahtuma/maolin-matematiikkakilpailu/
CATEGORIES:Kilpailut,Opiskelijoille
END:VEVENT
BEGIN:VEVENT
DTSTART;TZID=Europe/Helsinki:20231101T000000
DTEND;TZID=Europe/Helsinki:20231101T235959
DTSTAMP:20260425T005138
CREATED:20230925T095403Z
LAST-MODIFIED:20230925T095406Z
UID:10000210-1698796800-1698883199@tyk.info
SUMMARY:Maolin kemiakilpailu
DESCRIPTION:
URL:https://tyk.info/tapahtuma/maolin-kemiakilpailu/
CATEGORIES:Kilpailut,Opiskelijoille
END:VEVENT
BEGIN:VEVENT
DTSTART;TZID=Europe/Helsinki:20231101T161500
DTEND;TZID=Europe/Helsinki:20231101T184500
DTSTAMP:20260425T005138
CREATED:20230727T100526Z
LAST-MODIFIED:20230727T100527Z
UID:10000141-1698855300-1698864300@tyk.info
SUMMARY:Uusintakoe: reaali
DESCRIPTION:
URL:https://tyk.info/tapahtuma/uusintakoe-reaali-4/
CATEGORIES:Opiskelijoille
END:VEVENT
END:VCALENDAR