BEGIN:VCALENDAR
VERSION:2.0
PRODID:-//TYK - ECPv6.15.20//NONSGML v1.0//EN
CALSCALE:GREGORIAN
METHOD:PUBLISH
X-WR-CALNAME:TYK
X-ORIGINAL-URL:https://tyk.info
X-WR-CALDESC:Tapahtumat TYK
REFRESH-INTERVAL;VALUE=DURATION:PT1H
X-Robots-Tag:noindex
X-PUBLISHED-TTL:PT1H
BEGIN:VTIMEZONE
TZID:Europe/Helsinki
BEGIN:DAYLIGHT
TZOFFSETFROM:+0200
TZOFFSETTO:+0300
TZNAME:EEST
DTSTART:20220327T010000
END:DAYLIGHT
BEGIN:STANDARD
TZOFFSETFROM:+0300
TZOFFSETTO:+0200
TZNAME:EET
DTSTART:20221030T010000
END:STANDARD
BEGIN:DAYLIGHT
TZOFFSETFROM:+0200
TZOFFSETTO:+0300
TZNAME:EEST
DTSTART:20230326T010000
END:DAYLIGHT
BEGIN:STANDARD
TZOFFSETFROM:+0300
TZOFFSETTO:+0200
TZNAME:EET
DTSTART:20231029T010000
END:STANDARD
BEGIN:DAYLIGHT
TZOFFSETFROM:+0200
TZOFFSETTO:+0300
TZNAME:EEST
DTSTART:20240331T010000
END:DAYLIGHT
BEGIN:STANDARD
TZOFFSETFROM:+0300
TZOFFSETTO:+0200
TZNAME:EET
DTSTART:20241027T010000
END:STANDARD
END:VTIMEZONE
BEGIN:VEVENT
DTSTART;TZID=Europe/Helsinki:20231030T131500
DTEND;TZID=Europe/Helsinki:20231030T143000
DTSTAMP:20260425T015906
CREATED:20231030T131600Z
LAST-MODIFIED:20231030T131635Z
UID:10000224-1698671700-1698676200@tyk.info
SUMMARY:Alumni Mari Haavisto vierailulla
DESCRIPTION:TYKin alumni Mari Haavisto on tehnyt pitkän uran journalistina ja toiminut esimerkiksi Elinkeinoelämän Keskusliiton viestintä- ja vastuullisuusjohtajana. Nykyään hän on toimitusjohtajana perustamassaan Sus & Com Agencyssä\, joka keskittyy sosiaaliseen vastuullisuuteen ja strategiseen media- ja viestintäosaamiseen. Mari Haavisto saapuu Median valta-opintojakson vieraaksi klo 13.15-14.30.
URL:https://tyk.info/tapahtuma/alumni-mari-haavisto-vierailulla/
CATEGORIES:Ilmaisutaito,Opiskelijoille,Uraesittely
END:VEVENT
BEGIN:VEVENT
DTSTART;TZID=Europe/Helsinki:20231030T161500
DTEND;TZID=Europe/Helsinki:20231030T184500
DTSTAMP:20260425T015907
CREATED:20230727T100220Z
LAST-MODIFIED:20230727T100222Z
UID:10000139-1698682500-1698691500@tyk.info
SUMMARY:Uusintakoe: kielet
DESCRIPTION:
URL:https://tyk.info/tapahtuma/uusintakoe-kielet-4/
CATEGORIES:Opiskelijoille
END:VEVENT
END:VCALENDAR