BEGIN:VCALENDAR
VERSION:2.0
PRODID:-//TYK - ECPv6.15.20//NONSGML v1.0//EN
CALSCALE:GREGORIAN
METHOD:PUBLISH
X-ORIGINAL-URL:https://tyk.info
X-WR-CALDESC:Tapahtumat TYK
REFRESH-INTERVAL;VALUE=DURATION:PT1H
X-Robots-Tag:noindex
X-PUBLISHED-TTL:PT1H
BEGIN:VTIMEZONE
TZID:Europe/Helsinki
BEGIN:DAYLIGHT
TZOFFSETFROM:+0200
TZOFFSETTO:+0300
TZNAME:EEST
DTSTART:20220327T010000
END:DAYLIGHT
BEGIN:STANDARD
TZOFFSETFROM:+0300
TZOFFSETTO:+0200
TZNAME:EET
DTSTART:20221030T010000
END:STANDARD
BEGIN:DAYLIGHT
TZOFFSETFROM:+0200
TZOFFSETTO:+0300
TZNAME:EEST
DTSTART:20230326T010000
END:DAYLIGHT
BEGIN:STANDARD
TZOFFSETFROM:+0300
TZOFFSETTO:+0200
TZNAME:EET
DTSTART:20231029T010000
END:STANDARD
BEGIN:DAYLIGHT
TZOFFSETFROM:+0200
TZOFFSETTO:+0300
TZNAME:EEST
DTSTART:20240331T010000
END:DAYLIGHT
BEGIN:STANDARD
TZOFFSETFROM:+0300
TZOFFSETTO:+0200
TZNAME:EET
DTSTART:20241027T010000
END:STANDARD
END:VTIMEZONE
BEGIN:VEVENT
DTSTART;TZID=Europe/Helsinki:20231028T093000
DTEND;TZID=Europe/Helsinki:20231028T140000
DTSTAMP:20260425T022319
CREATED:20230727T095957Z
LAST-MODIFIED:20231008T114351Z
UID:10000138-1698485400-1698501600@tyk.info
SUMMARY:AVOIMET OVET JA 23-RYHMIEN KOTIVÄEN TAPAAMINEN
DESCRIPTION:TYKin Avoimet ovet la 28.10.2023 klo 9.30-14.00 \n\n\n\n\nAvointen ovien päivä on koulupäivä 23- ja 22-ryhmille (abit eivät ole koulussa).\n\n\n\nPäivän aikana pidetään palkkien 6 ja 3 oppitunnit 23- ja 22-ryhmille.\n\n\n\nKotiväki\, kaverit ja muut kiinnostuneet ovat lämpimästi tervetulleita tutustumaan TYKiin ja osallistumaan oppitunneille joustavasti koko päivän ajan!\n\n\n\nTYK-lähettiläät ja opot ovat koko päivän aulassa infopisteellä opastamassa vierailijoita\, jakamassa tarkempaa ohjelmaa ja vastailemassa kysymyksiin.\n\n\n\n\n Aikataulu\n\n\n\n\nklo 9.45-11.00 palkin 6 oppitunnit 23- ja 22-ryhmille\n\n\n\nklo 11.10-13.00 palkin 3 oppitunnit 23- ja 22-ryhmille\n\n\n\nklo 11.00-13.00 ruokailut erillisen aikataulun mukaan\n\n\n\n\nOpiskelijoiden koulupäivä päättyy klo 13.00. \n\n\n\nOppituntien lisäksi:\n\n\n\n\nIlmaisutaidon esityksiä klo 10.00\, 10.30\, 11.00 ja 11.30 Vanhassa salissa\n\n\n\nOppiaineiden esittelyä ympäri koulua\n\n\n\nYhteinen tilaisuus ekavuotisten eli 23-ryhmien kotiväelle klo 12.30-13.00 Vanhassa salissa\n\n\n\nKotiväentapaamiset ryhmänohjausryhmittäin ekavuotisten eli 23-ryhmien kotiväelle klo 13.00-14.00 kotiluokissa\n\n\n\n\nTervetuloa tutustumaan TYKiin!
URL:https://tyk.info/tapahtuma/avoimet-ovet-ja-23-ryhmien-kotivaentapaaminen/
CATEGORIES:Hakijoille,Kaikille avoin,Kotiväelle,Opiskelijoille
END:VEVENT
END:VCALENDAR